BEGIN:VCALENDAR
VERSION:2.0
PRODID:-//Elim Shores - ECPv6.15.20//NONSGML v1.0//EN
CALSCALE:GREGORIAN
METHOD:PUBLISH
X-ORIGINAL-URL:https://www.elimshores.org
X-WR-CALDESC:Events for Elim Shores
REFRESH-INTERVAL;VALUE=DURATION:PT1H
X-Robots-Tag:noindex
X-PUBLISHED-TTL:PT1H
BEGIN:VTIMEZONE
TZID:America/Chicago
BEGIN:DAYLIGHT
TZOFFSETFROM:-0600
TZOFFSETTO:-0500
TZNAME:CDT
DTSTART:20230312T080000
END:DAYLIGHT
BEGIN:STANDARD
TZOFFSETFROM:-0500
TZOFFSETTO:-0600
TZNAME:CST
DTSTART:20231105T070000
END:STANDARD
BEGIN:DAYLIGHT
TZOFFSETFROM:-0600
TZOFFSETTO:-0500
TZNAME:CDT
DTSTART:20240310T080000
END:DAYLIGHT
BEGIN:STANDARD
TZOFFSETFROM:-0500
TZOFFSETTO:-0600
TZNAME:CST
DTSTART:20241103T070000
END:STANDARD
BEGIN:DAYLIGHT
TZOFFSETFROM:-0600
TZOFFSETTO:-0500
TZNAME:CDT
DTSTART:20250309T080000
END:DAYLIGHT
BEGIN:STANDARD
TZOFFSETFROM:-0500
TZOFFSETTO:-0600
TZNAME:CST
DTSTART:20251102T070000
END:STANDARD
END:VTIMEZONE
BEGIN:VEVENT
DTSTART;TZID=America/Chicago:20241218T160000
DTEND;TZID=America/Chicago:20241218T180000
DTSTAMP:20260422T040456
CREATED:20241122T211337Z
LAST-MODIFIED:20241122T212406Z
UID:10000001-1734537600-1734544800@www.elimshores.org
SUMMARY:❄️ Home for the Holidays at Elim Shores❄️
DESCRIPTION:Where Vibrant Senior Living Meets Holiday Magic\n\nDecember 18th • 4:00 PM – 6:00 PM\nExperience the warmth of community this holiday season at Elim Shores. We’re opening our doors for a magical evening of fellowship\, festive treats\, and holiday cheer!\n\n\n🎅 Meet Santa and capture precious holiday memories\n🤝 Connect with our welcoming community of residents and staff\n🍽️ Savor hors d’oeuvres prepared by our culinary team\n🍷 Enjoy festive holiday refreshments and seasonal favorites\n\n\nTake home a special holiday gift\, our way of saying “thank you” for visiting Elim Shores!\n\nWhether you’re exploring senior living options or simply want to experience the joy of our community\, this is the perfect opportunity to see what makes Elim Shores special. Join us as we celebrate the season of giving in our warm and welcoming home.\n\nDiscover the perfect blend of independence and support in our vibrant senior living community. ✨
URL:https://www.elimshores.org/event/home-holidays-2024/
LOCATION:Elim Shores\, 7900 Timber Lake Dr.\, Eden Prairie\, MN\, 55347\, United States
ORGANIZER;CN="Elim Shores":MAILTO:jason.nelson@cassialife.org
END:VEVENT
END:VCALENDAR